BEGIN:VCALENDAR
VERSION:2.0
PRODID:-//ChurchDev//Events//EN
CALSCALE:GREGORIAN
METHOD:PUBLISH
BEGIN:VEVENT
UID:2914-20221207@www.bereancalvarychurch.com
SUMMARY:Wednesday Night Prayer Meeting
DTSTART:20221208T010000Z
DTEND:20221208T020000Z
DESCRIPTION:https://www.bereancalvarychurch.com/events/wednesday-night-prayer-meeting/
LOCATION:108 East 1st Street Alturas\, CA 96101
URL:https://www.bereancalvarychurch.com/events/wednesday-night-prayer-meeting/
DTSTAMP:20260419T212951Z
END:VEVENT
END:VCALENDAR
