BEGIN:VCALENDAR
VERSION:2.0
PRODID:-//ChurchDev//Events//EN
CALSCALE:GREGORIAN
METHOD:PUBLISH
BEGIN:VEVENT
UID:2916-20221204@www.bereancalvarychurch.com
SUMMARY:Sunday Morning Service
DTSTART:20221204T190000Z
DTEND:20221204T200000Z
DESCRIPTION:Please join us for Sunday Service. Nursery is available for children 0-5 years during service.\\n\\nhttps://www.bereancalvarychurch.com/events/sunday-morning-church-service/
LOCATION:108 East 1st Street Alturas\, CA 96101
URL:https://www.bereancalvarychurch.com/events/sunday-morning-church-service/
DTSTAMP:20260419T212946Z
END:VEVENT
END:VCALENDAR
