BEGIN:VCALENDAR
VERSION:2.0
PRODID:-//ChurchDev//Events//EN
CALSCALE:GREGORIAN
METHOD:PUBLISH
BEGIN:VEVENT
UID:2982-20230205@www.bereancalvarychurch.com
SUMMARY:Sunday School
DTSTART:20230205T180000Z
DTEND:20230205T190000Z
DESCRIPTION:For a deeper understanding of the word of God\, please join us for the Sunday School Service at 10 am. Sunday School for children is available for children 6-10 years and Nursery available for 0-5 years.\\n\\nhttps://www.bereancalvarychurch.com/events/sunday-school/
LOCATION:108 East 1st Street Alturas\, CA 96101
URL:https://www.bereancalvarychurch.com/events/sunday-school/
DTSTAMP:20260419T212914Z
END:VEVENT
END:VCALENDAR
