BEGIN:VCALENDAR
VERSION:2.0
PRODID:-//ChurchDev//Events//EN
CALSCALE:GREGORIAN
METHOD:PUBLISH
BEGIN:VEVENT
UID:2983-20230205@www.bereancalvarychurch.com
SUMMARY:Sunday Evening Service
DTSTART:20230206T010000Z
DTEND:20230206T020000Z
DESCRIPTION:https://www.bereancalvarychurch.com/events/sunday-evening-service/
LOCATION:108 East 1st Street Alturas\, CA 96101
URL:https://www.bereancalvarychurch.com/events/sunday-evening-service/
DTSTAMP:20260419T212950Z
END:VEVENT
END:VCALENDAR
