BEGIN:VCALENDAR
VERSION:2.0
PRODID:-//ChurchDev//Events//EN
CALSCALE:GREGORIAN
METHOD:PUBLISH
BEGIN:VEVENT
UID:2984-20230201@www.bereancalvarychurch.com
SUMMARY:Wednesday Ladies Bible Study
DTSTART:20230202T020000Z
DTEND:20230202T030000Z
DESCRIPTION:https://www.bereancalvarychurch.com/events/wednesday-ladies-bible-study/
LOCATION:108 East 1st Street Alturas\, CA 96101
URL:https://www.bereancalvarychurch.com/events/wednesday-ladies-bible-study/
DTSTAMP:20260419T212914Z
END:VEVENT
END:VCALENDAR
