BEGIN:VCALENDAR
VERSION:2.0
PRODID:-//ChurchDev//Events//EN
CALSCALE:GREGORIAN
METHOD:PUBLISH
BEGIN:VEVENT
UID:3245-20231212@www.bereancalvarychurch.com
SUMMARY:Tuesday Men’s Bible Study
DTSTART:20231213T020000Z
DTEND:20231213T030000Z
DESCRIPTION:https://www.bereancalvarychurch.com/events/mens-bible-study/
LOCATION:108 East 1st Street Alturas\, CA 96101
URL:https://www.bereancalvarychurch.com/events/mens-bible-study/
DTSTAMP:20260419T212943Z
END:VEVENT
END:VCALENDAR
